BEGIN:VCALENDAR
PRODID:NingEventWidget-v1
VERSION:2.0
METHOD:PUBLISH
BEGIN:VTIMEZONE
TZID:America/Anguilla
X-LIC-LOCATION:America/Anguilla
BEGIN:STANDARD
TZOFFSETFROM:-0400
TZOFFSETTO:-0400
TZNAME:AST
DTSTART:19700101T000000
END:STANDARD
END:VTIMEZONE
BEGIN:VEVENT
UID:5831649:Event:52763
DTSTAMP:20260424T113347Z
SUMMARY:Brooklyn Book Festival
DESCRIPTION:\nFree Rain Or Shine\n\n\nThe Brooklyn Book Festival is th
 e largest free literary event in New York City, presenting an array of
  national and international literary stars and emerging authors. One o
 f America’s premier book festivals, this hip, smart diverse gatherin
 g attracts thousands of book lovers of all ages to enjoy authors and t
 he festival’s lively literary marketplace. \n\nFor more information
  visit http://conectom.leimay.org/events/brooklyn-book-festival
DTSTART;TZID=America/Anguilla:20140921T100000
DTEND;TZID=America/Anguilla:20140921T180000
CATEGORIES:festival
LOCATION:Brooklyn Borough Hall and Plaza
WEBSITE:http://www.brooklynbookfestival.org/
URL:http://www.brooklynbookfestival.org/
CONTACT:
ORGANIZER:
ATTACH;FMTTYPE="image/jpeg":http://storage.ning.com/topology/rest/1.0/
 file/get/111738688?profile=original
ATTENDEE;ROLE=REQ-PARTICIPANT;PARTSTAT=ACCEPTED;RSVP=TRUE;CN=LEIMAY:ht
 tp://conectom.leimay.org/profile/LEIMAY_CAVE
ATTENDEE;ROLE=REQ-PARTICIPANT;PARTSTAT=ACCEPTED;RSVP=TRUE;CN="Theresa 
 Magario tm":http://conectom.leimay.org/profile/TheresaMagario_tm
END:VEVENT
END:VCALENDAR
