BEGIN:VCALENDAR
PRODID:NingEventWidget-v1
VERSION:2.0
METHOD:PUBLISH
BEGIN:VTIMEZONE
TZID:America/Anguilla
X-LIC-LOCATION:America/Anguilla
BEGIN:STANDARD
TZOFFSETFROM:-0400
TZOFFSETTO:-0400
TZNAME:AST
DTSTART:19700101T000000
END:STANDARD
END:VTIMEZONE
BEGIN:VEVENT
UID:5831649:Event:75357
DTSTAMP:20260424T024148Z
SUMMARY:BRIC OPEN Festival
DESCRIPTION:A four-day festival that aims to open BRIC's doors and shi
 ne a light on the power of inclusive, participatory arts and media pro
 gramming to shake up ideas about who makes and consumes culture, and h
 ow we come together to share responsibility for our communities. Event
 s include a talk by musician David Byrne, dance classes, theater perfo
 rmances, a drag drink-and-draw, and a community supper. All events ar
 e FREE. \n\nFor more information visit http://conectom.leimay.org/eve
 nts/bric-open-festival
DTSTART;TZID=America/Anguilla:20170427T190000
DTEND;TZID=America/Anguilla:20170430T210000
CATEGORIES:festival
LOCATION:BRIC House
WEBSITE:https://www.bricartsmedia.org/bricopen
URL:https://www.bricartsmedia.org/bricopen
CONTACT:718-683-5600
ORGANIZER:BRIC
ATTACH;FMTTYPE="image/jpeg":http://storage.ning.com/topology/rest/1.0/
 file/get/111741162?profile=original
ATTENDEE;ROLE=REQ-PARTICIPANT;PARTSTAT=ACCEPTED;RSVP=TRUE;CN="Abigail 
 Clark":http://conectom.leimay.org/profile/AbigailClark
END:VEVENT
END:VCALENDAR
