BEGIN:VCALENDAR
PRODID:NingEventWidget-v1
VERSION:2.0
METHOD:PUBLISH
BEGIN:VTIMEZONE
TZID:America/Anguilla
X-LIC-LOCATION:America/Anguilla
BEGIN:STANDARD
TZOFFSETFROM:-0400
TZOFFSETTO:-0400
TZNAME:AST
DTSTART:19700101T000000
END:STANDARD
END:VTIMEZONE
BEGIN:VEVENT
UID:5831649:Event:45933
DTSTAMP:20260419T085158Z
SUMMARY:Book Reading & Dance Performance
DESCRIPTION: \nReading of the new book \nUnveiling Motion and Emotio
 n\nREADING, DANCE PERFORMANCE & \nPHOTOGRAPHIC PROJECTIONS by Todd Ca
 rroll\n \nAdmission $5 / Limited seating / Refreshments served\nRSVP 
 required: info@anabellalenzu.com\n \nExploring the importance of dan
 ce, community, choreography and dance pedagogy, Argentinean Choreograp
 her Anabella Lenzu celebrates 23 years of teaching dance in a book
  of her writings in Spanish and English. Having opened her own dance
  school at 18, Lenzu recounts her experiences teaching in South Amer
 ica, Europe, and the US, as well as publishing an arts magazine and cr
 eating repertory for her dance company. Lenzu's eloquent prose reveal
 s reflections of a life devoted to dance performance and education. 
 Photography by Todd Carroll fully documents the performances and prov
 ides a glimpse into the creative process. This book is an inspiration 
 to dancers and teachers alike, and the first of its kind as a bilingua
 l text on dance pedagogy. \n\n\"I invite you to submerge yourself an
 d pursue self-knowledge because \nwithout that, we are lost in life.\
 nWhen we remain strangers to ourselves, we are deprived of the pleasur
 e of growing,\ntransforming, and finally discovering an inner balance.
 \"\n\n READ WHAT THE CRITICS HAVE SAID \n\nTo Purchase the Book Clic
 k HERE\n\nFor more information visit http://conectom.leimay.org/events
 /book-reading-dance-performance
DTSTART;TZID=America/Anguilla:20140510T190000
DTEND;TZID=America/Anguilla:20140510T210000
CATEGORIES:performace
LOCATION:City Reliquary Museum
WEBSITE:http://www.AnabellaLenzu.com
URL:http://www.AnabellaLenzu.com
CONTACT:
ORGANIZER:Anabella Lenzu
ATTACH;FMTTYPE="image/jpeg":http://storage.ning.com/topology/rest/1.0/
 file/get/111737997?profile=original
ATTENDEE;ROLE=REQ-PARTICIPANT;PARTSTAT=ACCEPTED;RSVP=TRUE;CN="Theresa 
 Magario tm":http://conectom.leimay.org/profile/TheresaMagario_tm
END:VEVENT
END:VCALENDAR
