BEGIN:VCALENDAR
PRODID:NingEventWidget-v1
VERSION:2.0
METHOD:PUBLISH
BEGIN:VTIMEZONE
TZID:America/Anguilla
X-LIC-LOCATION:America/Anguilla
BEGIN:STANDARD
TZOFFSETFROM:-0400
TZOFFSETTO:-0400
TZNAME:AST
DTSTART:19700101T000000
END:STANDARD
END:VTIMEZONE
BEGIN:VEVENT
UID:5831649:Event:36035
DTSTAMP:20260419T175916Z
SUMMARY:Bomb Sun // Faranú & Mike Redman via Transparent Studio
DESCRIPTION:Transparent Studio at Bose Pacia is pleased to announce th
 e current artists-in-residence duo, Faranú & Mike Redman. Their mult
 idisciplinary project, cleverly titled Diagonals Used for Mapping Broo
 klyn’s Overview, will conceptually map the DUMBO neighborhood. Faran
 ú & Mike intend to create a representation of DUMBO by investigating 
 its past and present histories by researching archives and capturing t
 he terrain through photographs, film, sound and drawing. \nThe final 
 project will be on display on Thursday 7 February, 6 - 9pm with an eve
 ning of transformation and collaboration with avant-garde jazz musicia
 n, Bomb Sun. The public is invited to attend the collaborative Open S
 tudio event and is welcome to visit Transparent Studio to talk with ar
 tists about their processes. Studio hours are by appointment only for 
 more info visit the website.\n\nFor more information visit http://cone
 ctom.leimay.org/events/bomb-sun-faranu-mike-redman-via-transparent-stu
 dio
DTSTART;TZID=America/Anguilla:20130207T180000
DTEND;TZID=America/Anguilla:20130207T210000
CATEGORIES:"avant garde jazz gallery opening", "gallery opening", fara
 nu, "mike redman"
LOCATION:Bose Pacia
WEBSITE:http://www.bosepacia.com/current/
URL:http://www.bosepacia.com/current/
CONTACT:
ORGANIZER:Raul Zbenghec
ATTACH;FMTTYPE="image/jpeg":http://storage.ning.com/topology/rest/1.0/
 file/get/111735815?profile=original
ATTENDEE;ROLE=REQ-PARTICIPANT;PARTSTAT=ACCEPTED;RSVP=TRUE;CN="Raul Zbe
 ngheci":http://conectom.leimay.org/profile/RaulZbengheci
END:VEVENT
END:VCALENDAR
