BEGIN:VCALENDAR
PRODID:NingEventWidget-v1
VERSION:2.0
METHOD:PUBLISH
BEGIN:VTIMEZONE
TZID:America/Anguilla
X-LIC-LOCATION:America/Anguilla
BEGIN:STANDARD
TZOFFSETFROM:-0400
TZOFFSETTO:-0400
TZNAME:AST
DTSTART:19700101T000000
END:STANDARD
END:VTIMEZONE
BEGIN:VEVENT
UID:5831649:Event:55626
DTSTAMP:20260419T150218Z
SUMMARY:Black Sea Hotel @ Zlatne Uste's Golden Festival
DESCRIPTION:Saturday, 1-17-15Zlatne Uste's Golden FestivalGolden Fest 
 is North America's most enormous and raucous Balkan music festival, wi
 th over 60+ bands on multiple stages... food, drink, dance, and tons o
 f it. Zlatne Uste's Golden FestivalGrand Prospect Hall (this place i
 s nuts - it looks like a wedding cake)Saturday, January 17, 2015Set Ti
 me: 10:10pm sharp (Atrium)263 Prospect Ave, Brooklyn, NY 11215Admiss
 ion: $55 / students $45 (volunteer positions available)FB Event Page__
 ____________________________________Black Sea Hotel WebsiteBlack Sea H
 otel Facebook Fan PageSarah Small Website\n\nFor more information visi
 t http://conectom.leimay.org/events/black-sea-hotel-zlatne-uste-s-gold
 en-festival
DTSTART;TZID=America/Anguilla:20150117T220000
DTEND;TZID=America/Anguilla:20150117T230000
CATEGORIES:music, festival
LOCATION:Grand Prospect Hall
WEBSITE:http://sarahsmall.us1.list-manage.com/track/click?u=ca0959e731
 5f8e3426411279d&id=0a4fd8812a&e=42a232ff5c
URL:http://sarahsmall.us1.list-manage.com/track/click?u=ca0959e7315f8e
 3426411279d&id=0a4fd8812a&e=42a232ff5c
CONTACT:
ORGANIZER:Black Sea Hotel
ATTACH;FMTTYPE="image/jpeg":http://storage.ning.com/topology/rest/1.0/
 file/get/111739216?profile=original
ATTENDEE;ROLE=REQ-PARTICIPANT;PARTSTAT=ACCEPTED;RSVP=TRUE;CN=LEIMAY:ht
 tp://conectom.leimay.org/profile/LEIMAY_CAVE
END:VEVENT
END:VCALENDAR
