BEGIN:VCALENDAR
PRODID:NingEventWidget-v1
VERSION:2.0
METHOD:PUBLISH
BEGIN:VTIMEZONE
TZID:America/Anguilla
X-LIC-LOCATION:America/Anguilla
BEGIN:STANDARD
TZOFFSETFROM:-0400
TZOFFSETTO:-0400
TZNAME:AST
DTSTART:19700101T000000
END:STANDARD
END:VTIMEZONE
BEGIN:VEVENT
UID:5831649:Event:43945
DTSTAMP:20260424T083344Z
SUMMARY:BALDY a one-woman, nine-character performance by Yokko 1/24 â€
 “ 26
DESCRIPTION:CRS (Center for Remembering & Sharing) presents theÂ solo 
 performanceÂ BALDYÂ byÂ Yokko.Â BALDY isÂ aÂ fearless, funny and intim
 ate, nine-character,Â one-woman show looking backing on writer/perform
 er Yokko's traumatic experience of losing her hairÂ â€” and then most 
 of her skin â€”Â at age 19.Â Refusing to see herself as a victim, she 
 chose instead to explore the roots of her dis-ease, eventually discove
 ringÂ her true strength and beauty â€” and her father's love.\n\nPerfo
 rmances will take place at CRS on Friday and Saturday, January 24 & 25
 , 2014 at 8 pm and Sunday, January 26Â at 3 pm.\n\nGeneral admission t
 ickets are $20. Tickets for students and seniors with valid ID areÂ $1
 5 at the door. $15 early-bird tickets are available through Jan 19.\n\
 nBuy tickets here.\n\nÂ BALDYÂ has beenÂ previously presented in to so
 ld out audiences in theÂ New York International Fringe Festival (2012)
 , the Hollywood Fringe Festival (2013), and the United Solo Theatre Fe
 stivalÂ atÂ Theatre Row (2013).\nIn this heartfelt examination and med
 itation on cultural and familial expectation, self-doubt and personal 
 identity, Yokko grounds herself in her story as much as she does in th
 e present moment, and her commitment to both is admirable. With or wit
 hout hair,Â BaldyÂ is a thing of wonder. â€” Rochelle Denton,Â nytheat
 ernow.com\n\n\nAbout Yokko\nYokkoÂ (performer & writer) is an actor & 
 a movement artist from Japan, came to the United States to study theat
 re in Oregon and Albany. She received her MFA in Acting from the Actor
 s Studio Drama School in New York City. Her Credits includeÂ BALDYÂ (H
 ollywood Fringe Festival2013,Â Fringe NYC 2012),Â BUTOH ElectraÂ (Iron
 dale Center & Fringe NYC 2011),Â The Woolgatherer, The ProducersÂ (ASD
 S Repertory season),Â OdysseyÂ (The Wings Theatre) andÂ OthelloÂ (Look
 ing Glass Theatre). Dance Credits include:Â FACETÂ (Hollywood Fringe F
 estival 2013),Â Autumn LeavesÂ (KGB Show, Kraine Theatre), and many ot
 hers. She is a member of The Ume Group, and VOID Theatre Company in NY
 C. She is also founder of JPAC (Japanese Performing Arts Company), and
  has shared Japanese culture through classical Japanese dance and stag
 e combat within drama.Â \nhttp://www.yokko-online.comÂ \n\nFor more in
 formation visit http://conectom.leimay.org/events/baldy-a-one-woman-ni
 ne-character-performance-by-yokko-1-24-26-2
DTSTART;TZID=America/Anguilla:20140126T150000
DTEND;TZID=America/Anguilla:20140126T160000
CATEGORIES:theatre
LOCATION:CRS (Center for Remembering & Sharing)
WEBSITE:http://www.crsny.org
URL:http://www.crsny.org
CONTACT:212-677-8621
ORGANIZER:
ATTACH;FMTTYPE="image/jpeg":http://storage.ning.com/topology/rest/1.0/
 file/get/111737545?profile=original
ATTENDEE;ROLE=REQ-PARTICIPANT;PARTSTAT=ACCEPTED;RSVP=TRUE;CN="Theresa 
 Magario tm":http://conectom.leimay.org/profile/TheresaMagario_tm
END:VEVENT
END:VCALENDAR
