BEGIN:VCALENDAR
PRODID:NingEventWidget-v1
VERSION:2.0
METHOD:PUBLISH
BEGIN:VTIMEZONE
TZID:America/Anguilla
X-LIC-LOCATION:America/Anguilla
BEGIN:STANDARD
TZOFFSETFROM:-0400
TZOFFSETTO:-0400
TZNAME:AST
DTSTART:19700101T000000
END:STANDARD
END:VTIMEZONE
BEGIN:VEVENT
UID:5831649:Event:2064
DTSTAMP:20260419T101449Z
SUMMARY:BAC! Barcelona Art Contemporary Festival
DESCRIPTION:Dear All,\n\nMy video work will be shown at BAC!(Barcelona
  Art Contemporary Festival) this weekend. In both works I collaborated
  with composer Nao Sakamoto. If you can go, it would be great!\nHere i
 s the link:\nhttp://www.videoartworld.com/data/bulletins/BAC!-2010:-TI
 ME.html\n\nTHURSDAY - Nov. 4th : CASA ASIA\n6.30pm. - Screening of Sel
 ection :: JAPAN AUDIOVISUALS\n\n- FRANTIC BEAUTY: Shige Moriya/LEIMAY 
 & Nao Sakamoto/Chromasonus – Japan, 2010, 3'33\"\n- SPIRAL -THIRD MA
 TTER-: Shige Moriya/LEIMAY & Nao Sakamoto/Chromasonus – Japan, 2010,
  5'06\"\n\n\nBest,\nShige\n\nFor more information visit http://conecto
 m.leimay.org/events/bac-barcelona-art-contemporary
DTSTART;TZID=America/Anguilla:20101104T000000
DTEND;TZID=America/Anguilla:20101117T235900
CATEGORIES:screening
LOCATION:Barcelona
WEBSITE:http://www.videoartworld.com/data/bulletins/BAC!-2010:-TIME.ht
 ml
URL:http://www.videoartworld.com/data/bulletins/BAC!-2010:-TIME.html
CONTACT:
ORGANIZER:
ATTACH;FMTTYPE="image/jpeg":http://storage.ning.com/topology/rest/1.0/
 file/get/111733218?profile=original
ATTENDEE;ROLE=REQ-PARTICIPANT;PARTSTAT=ACCEPTED;RSVP=TRUE;CN=LEIMAY:ht
 tp://conectom.leimay.org/profile/LEIMAY
END:VEVENT
END:VCALENDAR
