BEGIN:VCALENDAR
PRODID:NingEventWidget-v1
VERSION:2.0
METHOD:PUBLISH
BEGIN:VTIMEZONE
TZID:America/Anguilla
X-LIC-LOCATION:America/Anguilla
BEGIN:STANDARD
TZOFFSETFROM:-0400
TZOFFSETTO:-0400
TZNAME:AST
DTSTART:19700101T000000
END:STANDARD
END:VTIMEZONE
BEGIN:VEVENT
UID:5831649:Event:36389
DTSTAMP:20260422T200129Z
SUMMARY:AUNTS + CATCH
DESCRIPTION:Catch, “everyone’s favorite” multidisciplinary perfo
 rmance and video series, trades fundamentals and formats with AUNTS, a
  dance/performance/party event  “keeping the spirit of experimentat
 ion alive,” for two nights of performance\nFEBRUARY 22 CATCH→AUNTS
  will make dance happen with a night of performance and good old fashi
 oned debauchery, organized by Jeff Larson, Andrew Dinwiddie and Caleb 
 Hammons.\nFeaturing: Ivy Baldwin, Agnes Bolt, Faye Driscoll, Natalie G
 reen, Kennis Hawkins, Holly Heidt, Zhenesse Staniec Heinemann, Immedia
 te Medium, Lauren Petty and Shaun Irons, Laboratory Theater, Adriane L
 ee, Neal Medlyn, Ken Nintzel, Steven Reker, Alex Rodabaugh, Anna Maria
  Shogren, Anna Sperber, Arturo Vidich, Zoe Geltman and Marisa Wallin, 
 Enrico Wey, and Emma Wiseman.\n\nFor more information visit http://con
 ectom.leimay.org/events/aunts-catch
DTSTART;TZID=America/Anguilla:20130222T200000
DTEND;TZID=America/Anguilla:20130222T220000
CATEGORIES:"mega dance evening", debauchery, aunts
LOCATION:Invisible Dog Arts Center
WEBSITE:http://theinvisibledog.org/aunts-catch/
URL:http://theinvisibledog.org/aunts-catch/
CONTACT:
ORGANIZER:
ATTACH;FMTTYPE="image/jpeg":http://storage.ning.com/topology/rest/1.0/
 file/get/111735819?profile=original
ATTENDEE;ROLE=REQ-PARTICIPANT;PARTSTAT=ACCEPTED;RSVP=TRUE;CN="mike dot
 hal":http://conectom.leimay.org/profile/mikedothal
ATTENDEE;ROLE=REQ-PARTICIPANT;PARTSTAT=ACCEPTED;RSVP=TRUE;CN="julie sp
 odek":http://conectom.leimay.org/profile/juliespodek
ATTENDEE;ROLE=REQ-PARTICIPANT;PARTSTAT=ACCEPTED;RSVP=TRUE;CN="Raul Zbe
 ngheci":http://conectom.leimay.org/profile/RaulZbengheci
END:VEVENT
END:VCALENDAR
