BEGIN:VCALENDAR
PRODID:NingEventWidget-v1
VERSION:2.0
METHOD:PUBLISH
BEGIN:VTIMEZONE
TZID:America/Anguilla
X-LIC-LOCATION:America/Anguilla
BEGIN:STANDARD
TZOFFSETFROM:-0400
TZOFFSETTO:-0400
TZNAME:AST
DTSTART:19700101T000000
END:STANDARD
END:VTIMEZONE
BEGIN:VEVENT
UID:5831649:Event:36455
DTSTAMP:20260424T124849Z
SUMMARY:AUNTS + CATCH
DESCRIPTION:Catch, “everyone’s favorite” multidisciplinary perfo
 rmance and video series, trades fundamentals and formats with AUNTS, a
  dance/performance/party event  “keeping the spirit of experimentat
 ion alive,” for two nights of performance\nFEBRUARY 23AUNTS→CATCH 
 will present rough-and-ready short works by New York’s most exciting
  artists, curated with reckless delicacy by Laurie Berg and Liliana Di
 rks-Goodman.\nFeaturing:Talya Epstein, Salley May, James Monaco, Rebec
 ca Patek, Rebecca Wender, Ishmael Houston-Jones & Emily Wexler, Theo W
 ilson with special guest host Lucy Sexton!\n\nFor more information vis
 it http://conectom.leimay.org/events/aunts-catch-1
DTSTART;TZID=America/Anguilla:20130223T200000
DTEND;TZID=America/Anguilla:20130223T220000
CATEGORIES:"mega dance evening", debauchery, aunts
LOCATION:Invisible Dog Arts Center
WEBSITE:http://theinvisibledog.org/aunts-catch/
URL:http://theinvisibledog.org/aunts-catch/
CONTACT:
ORGANIZER:
ATTACH;FMTTYPE="image/jpeg":http://storage.ning.com/topology/rest/1.0/
 file/get/111735819?profile=original
ATTENDEE;ROLE=REQ-PARTICIPANT;PARTSTAT=ACCEPTED;RSVP=TRUE;CN="mike dot
 hal":http://conectom.leimay.org/profile/mikedothal
ATTENDEE;ROLE=REQ-PARTICIPANT;PARTSTAT=ACCEPTED;RSVP=TRUE;CN="Raul Zbe
 ngheci":http://conectom.leimay.org/profile/RaulZbengheci
END:VEVENT
END:VCALENDAR
