BEGIN:VCALENDAR
PRODID:NingEventWidget-v1
VERSION:2.0
METHOD:PUBLISH
BEGIN:VTIMEZONE
TZID:America/Anguilla
X-LIC-LOCATION:America/Anguilla
BEGIN:STANDARD
TZOFFSETFROM:-0400
TZOFFSETTO:-0400
TZNAME:AST
DTSTART:19700101T000000
END:STANDARD
END:VTIMEZONE
BEGIN:VEVENT
UID:5831649:Event:68054
DTSTAMP:20260419T143908Z
SUMMARY:Arts Oasis - International Residency for Performers
DESCRIPTION:Arts Oasis\n\nMay 25 - June 1, 2016\n Tuscany, Italy\n\n\
 n\nWe believe that performers all over the world belong to \"one huge
  small world\" speaking the universal “intercultural” language
 , and need to meet each other to refresh energies, find new collabora
 tions, share creative ideas and have great fun! \nFor this we have c
 reated Arts Oasis Residency!\nArts Oasis Monastery is the annual inte
 rnational multidisciplinary residency for performing arts practitioner
 s from different countries, passionate and inspired by movement, dance
  and physical theatre, interested in practical research of contemporar
 y performance practice together with colleagues from different parts o
 f the world. The program is based at the territory of the XII century 
 Monastery in Tuscany, famous for being the place of seclusion for the 
 legendary Dante Alighieri.\n\nhttp://www.iugte.com/artsoasis\n\nFor mo
 re information visit http://conectom.leimay.org/events/arts-oasis-inte
 rnational-residency-for-performers
DTSTART;TZID=America/Anguilla:20160525T140000
DTEND;TZID=America/Anguilla:20160601T100000
CATEGORIES:residency, residential, workshop, multidisciplinary, lab
LOCATION:Tuscany, Italy
WEBSITE:http://www.iugte.com/artsoasis
URL:http://www.iugte.com/artsoasis
CONTACT:
ORGANIZER;CN=IUGTE:http://conectom.leimay.org/profile/IUGTE
ATTACH;FMTTYPE="image/jpeg":http://storage.ning.com/topology/rest/1.0/
 file/get/111740415?profile=original
ATTENDEE;ROLE=REQ-PARTICIPANT;PARTSTAT=ACCEPTED;RSVP=TRUE;CN=IUGTE:htt
 p://conectom.leimay.org/profile/IUGTE
END:VEVENT
END:VCALENDAR
