BEGIN:VCALENDAR
PRODID:NingEventWidget-v1
VERSION:2.0
METHOD:PUBLISH
BEGIN:VTIMEZONE
TZID:America/Anguilla
X-LIC-LOCATION:America/Anguilla
BEGIN:STANDARD
TZOFFSETFROM:-0400
TZOFFSETTO:-0400
TZNAME:AST
DTSTART:19700101T000000
END:STANDARD
END:VTIMEZONE
BEGIN:VEVENT
UID:5831649:Event:36042
DTSTAMP:20260419T225414Z
SUMMARY:Artaud in the Black Lodge // David T. Little
DESCRIPTION:Artaud in the Black Lodge is a contemporary work of opera
 -theatre by David T. Little, with a libretto by poet Anne Waldman, exp
 loring the imagined psychic connections between Antonin Artaud, Willia
 m S. Burroughs and David Lynch. Existing in a Bardo-like place where d
 reams and reality intersect and the individual is confronted by demons
  of their own making, it is a work about the suspension of time, commu
 nication across realms, and the altering of sublunary experience.\n \
 nThis is a libretto reading only. FREE to the public.\n\nFor more info
 rmation visit http://conectom.leimay.org/events/artaud-in-the-black-lo
 dge-david-t-little
DTSTART;TZID=America/Anguilla:20130209T140000
DTEND;TZID=America/Anguilla:20130209T160000
CATEGORIES:"imagined connections", "libretto reading"
LOCATION:HERE Arts Center
WEBSITE:http://www.here.org/shows/detail/1124/
URL:http://www.here.org/shows/detail/1124/
CONTACT:
ORGANIZER:
ATTACH;FMTTYPE="image/jpeg":http://storage.ning.com/topology/rest/1.0/
 file/get/111735826?profile=original
ATTENDEE;ROLE=REQ-PARTICIPANT;PARTSTAT=ACCEPTED;RSVP=TRUE;CN="Raul Zbe
 ngheci":http://conectom.leimay.org/profile/RaulZbengheci
END:VEVENT
END:VCALENDAR
