BEGIN:VCALENDAR
PRODID:NingEventWidget-v1
VERSION:2.0
METHOD:PUBLISH
BEGIN:VTIMEZONE
TZID:America/Anguilla
X-LIC-LOCATION:America/Anguilla
BEGIN:STANDARD
TZOFFSETFROM:-0400
TZOFFSETTO:-0400
TZNAME:AST
DTSTART:19700101T000000
END:STANDARD
END:VTIMEZONE
BEGIN:VEVENT
UID:5831649:Event:33920
DTSTAMP:20260419T095220Z
SUMMARY:Amidst (The Painted Bird II) // Pavel Zuštiak / Palissimo
DESCRIPTION:Haunting images interface with a cast of three, juxtaposin
 g the past and present, real and virtual, as a constant shifting illus
 ion at the intersection of dance, visual art, and live music. The audi
 ovisual elements engulf the audience, who is invited to make their own
  choices about where to experience the work. Blurred lines of presence
  and absence, memory and disappearance cannot possibly all be consumed
 . Amidst is the middle part ofThe Painted Bird and fittingly focuse
 s on nostalgia as a place of entrapment on a journey “home.”\nTick
 ets $20\n\n\n\n\nFor more information visit http://conectom.leimay.org
 /events/amidst-the-painted-bird-ii-pavel-zu-tiak-palissimo-1
DTSTART;TZID=America/Anguilla:20130114T200000
DTEND;TZID=America/Anguilla:20130114T210000
CATEGORIES:"installation house", "high art house performance", "perfor
 mance house"
LOCATION:Performance Space 122
WEBSITE:http://www.ps122.org/amidst/
URL:http://www.ps122.org/amidst/
CONTACT:
ORGANIZER:
ATTACH;FMTTYPE="image/jpeg":http://storage.ning.com/topology/rest/1.0/
 file/get/111735648?profile=original
ATTENDEE;ROLE=REQ-PARTICIPANT;PARTSTAT=ACCEPTED;RSVP=TRUE;CN="Raul Zbe
 ngheci":http://conectom.leimay.org/profile/RaulZbengheci
END:VEVENT
END:VCALENDAR
