BEGIN:VCALENDAR
PRODID:NingEventWidget-v1
VERSION:2.0
METHOD:PUBLISH
BEGIN:VTIMEZONE
TZID:America/Anguilla
X-LIC-LOCATION:America/Anguilla
BEGIN:STANDARD
TZOFFSETFROM:-0400
TZOFFSETTO:-0400
TZNAME:AST
DTSTART:19700101T000000
END:STANDARD
END:VTIMEZONE
BEGIN:VEVENT
UID:5831649:Event:59629
DTSTAMP:20260419T130621Z
SUMMARY:American Comics: Copyright & Intellectual Property Protections
DESCRIPTION:American Comics: Copyright & Intellectual Property Protect
 ions\n\n\nMarch 18 | 6:00-8:00pm\n$15 General Public \n$10 CAC Artist
  Members \nFREE for BOLT, HATCH, and LAUNCH Residents & Mana Artists 
 Mana Contemporary \n\n\nJoin CAC and Mana Contemporary for a special 
 workshop on critical copyright issues.In conjunction with the Chicago 
 Artists Resource video series Survival Guide, this legal workshop will
  explore the critical issue of intellectual property protections. Refe
 rencing the Erró: American Comics exhibition currently up at Mana Con
 temporary, Patrice Perkins will examine the 2010 lawsuit filed against
  Icelandic artist Erró by Tank Girl creator Brian Bolland as a case s
 tudy in the nuances of copyright law for artists. The workshop will in
 troduce participants to the process of identifying and implementing co
 pyright protection needs for their creative practice and other intelle
 ctual property issues. Advance Registration is recommended, but not re
 quired. As part of CAC's partnership with Mana Contemporary, we can en
 sure that Mana's core group of artists are able to attend at no cost, 
 just as we do for CAC resident artists (BOLT, HATCH, and LAUNCH).\n\nF
 or more information visit http://conectom.leimay.org/events/american-c
 omics-copyright-intellectual-property-protections
DTSTART;TZID=America/Anguilla:20150318T180000
DTEND;TZID=America/Anguilla:20150318T200000
CATEGORIES:workshop
LOCATION:Mana Contemporary Chicago
WEBSITE:http://www.chicagoartistscoalition.org/programs/art-business-c
 reate/copyright-intellectual-property-protections-artists?utm_medium=e
 mail&utm_campaign=American+Comics+A+Copyright++Intellectual+Property+P
 rotections+Workshop+March+18&utm_content=American+Comics+A+Copyright++
 Intellectual+Property+Protections+Workshop+March+18+CID_ea13a813eb92ef
 f262023fa11e31831c&utm_source=campaign%20monitor&utm_term=Painting%20E
 rro%20The%20Official%20Portrait%20of%20Sigmund%20Freud
URL:http://www.chicagoartistscoalition.org/programs/art-business-creat
 e/copyright-intellectual-property-protections-artists?utm_medium=email
 &utm_campaign=American+Comics+A+Copyright++Intellectual+Property+Prote
 ctions+Workshop+March+18&utm_content=American+Comics+A+Copyright++Inte
 llectual+Property+Protections+Workshop+March+18+CID_ea13a813eb92eff262
 023fa11e31831c&utm_source=campaign%20monitor&utm_term=Painting%20Erro%
 20The%20Official%20Portrait%20of%20Sigmund%20Freud
CONTACT:
ORGANIZER:
ATTACH;FMTTYPE="image/jpeg":http://storage.ning.com/topology/rest/1.0/
 file/get/111739515?profile=original
ATTENDEE;ROLE=REQ-PARTICIPANT;PARTSTAT=ACCEPTED;RSVP=TRUE;CN=LEIMAY:ht
 tp://conectom.leimay.org/profile/LEIMAY_CAVE
END:VEVENT
END:VCALENDAR
