BEGIN:VCALENDAR
PRODID:NingEventWidget-v1
VERSION:2.0
METHOD:PUBLISH
BEGIN:VTIMEZONE
TZID:America/Anguilla
X-LIC-LOCATION:America/Anguilla
BEGIN:STANDARD
TZOFFSETFROM:-0400
TZOFFSETTO:-0400
TZNAME:AST
DTSTART:19700101T000000
END:STANDARD
END:VTIMEZONE
BEGIN:VEVENT
UID:5831649:Event:73108
DTSTAMP:20260424T024114Z
SUMMARY:Aluna Sintana
DESCRIPTION:December 7, 2016\n7:00 pm - Â 10:30 Â pmCocktails, Multi-C
 ourse Dinner,Â and Performances Â \n10:30 pm - 12:00 amConnect with LE
 IMAY After-Party, Open Bar & Dancing\n\nJoin us onÂ December 7,Â 2016Â
  forÂ AlunaÂ SintanaÂ to celebrate artistsÂ Shige Moriya and Ximena Ga
 rnica, their expansive body of work and commitment to supporting other
  emerging artists. Â Since 1996, Shige and Ximena have led a variety o
 f community programs providing affordable workspace, training and pres
 enting opportunities for emerging artists at their home studio,Â CAVE,
  in Williamsburg, Brooklyn. Simultaneously they have developed, create
 d and toured collaborative works ranging from sculptural, video, and l
 ight installations to photography,Â performancesÂ and publications. Th
 eir work has been shown in a variety of local and international venues
  including BAM, HERE, Joyce SoHo, The Brooklyn Museum, The New Museum,
  and The Watermill Center.\nAlunaÂ SintanaÂ will honorÂ acclaimed arti
 stsÂ Laurie AndersonÂ andÂ Robert WilsonÂ together with the visionaryÂ
  Alanna Heiss. The evening will bring together artists, friends, and a
 rt supporters at CAVE for an intimate seated dinnerÂ in a unique envir
 onment of installations and performances. Â The dinner will be followe
 d by an after party event, offering additional guests the opportunity 
 to meet and share with LEIMAYâ€™s artists and ensemble at their home a
 nd workspace.Aluna SintanaÂ is the second benefit hosted by LEIMAY. Th
 e first,Â Hanasaka,Â took place on December 1, 2016, and honored compo
 ser Philip Glass together with Zachary Model and Juan Merchan.Â Click 
 here for a short videoÂ fromÂ Hanasaka.Â \nAll contributions made to t
 he Benefit will supportÂ LEIMAYâ€™s year-round community programsÂ and
  the production of LEIMAYâ€™s new work,Â Frantic Beauty,Â premiering S
 eptember 2017 at BAM Fisher.\n\nFor more information visit http://cone
 ctom.leimay.org/events/aluna-sintana
DTSTART;TZID=America/Anguilla:20161207T190000
DTEND;TZID=America/Anguilla:20161207T234500
CATEGORIES:gala
LOCATION:CAVE
WEBSITE:https://www.nycharities.org/Events/9258
URL:https://www.nycharities.org/Events/9258
CONTACT:3478384677
ORGANIZER;CN=LEIMAY:http://conectom.leimay.org/profile/LEIMAY_CAVE
ATTACH;FMTTYPE="image/jpeg":http://storage.ning.com/topology/rest/1.0/
 file/get/111740731?profile=original
ATTENDEE;ROLE=REQ-PARTICIPANT;PARTSTAT=ACCEPTED;RSVP=TRUE;CN=LEIMAY:ht
 tp://conectom.leimay.org/profile/LEIMAY_CAVE
END:VEVENT
END:VCALENDAR
