BEGIN:VCALENDAR
PRODID:NingEventWidget-v1
VERSION:2.0
METHOD:PUBLISH
BEGIN:VTIMEZONE
TZID:America/Anguilla
X-LIC-LOCATION:America/Anguilla
BEGIN:STANDARD
TZOFFSETFROM:-0400
TZOFFSETTO:-0400
TZNAME:AST
DTSTART:19700101T000000
END:STANDARD
END:VTIMEZONE
BEGIN:VEVENT
UID:5831649:Event:39344
DTSTAMP:20260424T141939Z
SUMMARY:ADRIÁN VILLAR ROJAS IN CONVERSATION WITH KLAUS BIESENBACH
DESCRIPTION:Known for his monumental clay sculptures, Adrián Villar 
 Rojas represented Argentina at the 2011 Venice Biennale. Klaus Biese
 nbach is director of MoMA PS1 and Chief Curator-at-Large at The Museu
 m of Modern Art. They will discuss “dark optimism” and Villar Roja
 s’ installation La inocencia de los animales, built for the EXPO 
 School.\n\nFor more information visit http://conectom.leimay.org/event
 s/adrian-villar-rojas-in-conversation-with-klaus-biesenbach
DTSTART;TZID=America/Anguilla:20130518T150000
DTEND;TZID=America/Anguilla:20130518T180000
CATEGORIES:"museum discussion", expo1
LOCATION:MoMA PS1
WEBSITE:http://www.momaps1.org/expo1/event/adrian-villar-rojas-in-conv
 ersation-with-klaus-biesenbach/
URL:http://www.momaps1.org/expo1/event/adrian-villar-rojas-in-conversa
 tion-with-klaus-biesenbach/
CONTACT:
ORGANIZER:
ATTACH;FMTTYPE="image/jpeg":http://storage.ning.com/topology/rest/1.0/
 file/get/111736564?profile=original
ATTENDEE;ROLE=REQ-PARTICIPANT;PARTSTAT=ACCEPTED;RSVP=TRUE;CN="Raul Zbe
 ngheci":http://conectom.leimay.org/profile/RaulZbengheci
END:VEVENT
END:VCALENDAR
