BEGIN:VCALENDAR
PRODID:NingEventWidget-v1
VERSION:2.0
METHOD:PUBLISH
BEGIN:VTIMEZONE
TZID:America/Anguilla
X-LIC-LOCATION:America/Anguilla
BEGIN:STANDARD
TZOFFSETFROM:-0400
TZOFFSETTO:-0400
TZNAME:AST
DTSTART:19700101T000000
END:STANDARD
END:VTIMEZONE
BEGIN:VEVENT
UID:5831649:Event:25246
DTSTAMP:20260419T193318Z
SUMMARY:A share bill of New York Butoh-Kan alumnae
DESCRIPTION:\nMay 4th 8:00pm Tickets: $15 / $12 (CAVE Nexus memebrs)\n
 \nStephanie Lanckton \nX-37\nThere is a lonely speck floating in the 
 enveloping darkness of the cosmos that contains all of human history,
  past, present and future. We, as a human race are physically bound t
 o this “…mote of dust suspended in a sunbeam”, as the late cosm
 ologist Carl Sagan wrote. X-37 elucidates possibilities and question
 s that are impressed upon humanity and matter, from the first spark o
 f the universe into eternity. X-37 is a journey and exploration thro
 ugh dance and sound, a bridge between cosmos and earth; how we arrive
 d here and how we transcend, our stardust ancestry, our computer gene
 rated future, and the higher vibration we may truly end up returning t
 o.\n\n\nTheresa Magario TheresaMagario.com\nTrichtillen\nWhy do some t
 hings have greater value than others? Why are some things cared for,
 cherished and prized whiles others are not? - when it they are all 
 made out of the same materials.\n\nGet Tickets!\nCoupon discount code:
  SoggyTicket2\n\n\nFor more information visit http://conectom.leimay.o
 rg/events/a-share-bill-of-new-york-butoh-kan-alumnae
DTSTART;TZID=America/Anguilla:20120504T200000
DTEND;TZID=America/Anguilla:20120504T210000
CATEGORIES:performance
LOCATION:CAVE
WEBSITE:http://www.cavearts.org
URL:http://www.cavearts.org
CONTACT:
ORGANIZER;CN=LEIMAY:http://conectom.leimay.org/profile/LEIMAY_CAVE
ATTACH;FMTTYPE="image/jpeg":http://storage.ning.com/topology/rest/1.0/
 file/get/111733851?profile=original
ATTENDEE;ROLE=REQ-PARTICIPANT;PARTSTAT=ACCEPTED;RSVP=TRUE;CN="Theresa 
 Magario tm":http://conectom.leimay.org/profile/TheresaMagario_tm
ATTENDEE;ROLE=REQ-PARTICIPANT;PARTSTAT=ACCEPTED;RSVP=TRUE;CN="julie sp
 odek":http://conectom.leimay.org/profile/juliespodek
ATTENDEE;ROLE=REQ-PARTICIPANT;PARTSTAT=ACCEPTED;RSVP=TRUE;CN=LEIMAY:ht
 tp://conectom.leimay.org/profile/LEIMAY_CAVE
END:VEVENT
END:VCALENDAR
