BEGIN:VCALENDAR
PRODID:NingEventWidget-v1
VERSION:2.0
METHOD:PUBLISH
BEGIN:VTIMEZONE
TZID:America/Anguilla
X-LIC-LOCATION:America/Anguilla
BEGIN:STANDARD
TZOFFSETFROM:-0400
TZOFFSETTO:-0400
TZNAME:AST
DTSTART:19700101T000000
END:STANDARD
END:VTIMEZONE
BEGIN:VEVENT
UID:5831649:Event:59563
DTSTAMP:20260419T113956Z
SUMMARY:9th annual Dasha Shenkman Lecture in Contemporary Art
DESCRIPTION:\n \n\n9th annual Dasha Shenkman Lecture in Contemporary 
 Art\n\n\n\nMichael Snow: \"Fine Art and Music\" Wednesday, March 25, 2
 015, 6–7:30pm   University of Guelph War Memorial Hall 50 Stone Ro
 ad East Guelph, Ontario N1G 2W1 Parking in P23/24 and P19 off College 
 Avenue  www.uoguelph.ca\n\n \n\nMichael Snow is a national cultural t
 reasure. No other living Canadian artist has made as profound a contri
 bution to international visual culture and Canadian artistic identity.
  Since the fifties, he has worked with objects, images and sound separ
 ately and together. His discussion at the Dasha Shenkman Lecture in Co
 ntemporary Art will focus on their identities.    Snow is a cultural 
 polymath: his internationally recognized proficiencies include music, 
 film, painting, sculpture and public art. Remarkably, he has made pion
 eering contributions in all these fields. His work is in the collect
 ions of the National Gallery of Canada, the Museum of Modern Art in Ne
 w York, the Anthology Film Archives, New York, the Centre Georges Pomp
 idou, Paris, and the Royal Belgian Film Archives in Brussels, to name 
 just a few. Retrospectives of his work have been held at the world's f
 oremost museums in Tokyo, Paris, Lyon, Montreal, Vancouver, Toronto, B
 russels, Geneva and Philadelphia. He has been the subject of solo and 
 group exhibitions in Amsterdam, Atlanta, Berlin, Bonn, Boston, Brussel
 s, Kassel, Lima, Los Angeles, Lucerne, Lyon, Minneapolis, Montreux, Mu
 nich, New York, Ottawa, Paris, Pittsburgh, Quebec City, Rotterdam, San
  Francisco, and Toronto.  Michael Snow is a Companion of the Order of 
 Canada, a Chevalier d'ordre des Arts et des Lettres de France and hold
 s an Honorary Doctorate from the Sorbonne, alongside honorary degrees 
 from Emily Carr University, the University of Toronto, the University 
 of Victoria, Brock University and the Nova Scotia College of Art and D
 esign.  The lecture is open to the public and will be followed by a qu
 estion and answer period moderated by Robert Enright, University of Gu
 elph Research Professor in Art Criticism.  The annual Shenkman Lecture
  was established in 2007 and is made possible through the support of D
 asha Shenkman OBE, a Canadian art collector and philanthropist who liv
 es in the United Kingdom.  \n\n\n\n\n\n\n\n\nFor more information visi
 t http://conectom.leimay.org/events/9th-annual-dasha-shenkman-lecture-
 in-contemporary-art
DTSTART;TZID=America/Anguilla:20150325T180000
DTEND;TZID=America/Anguilla:20150325T193000
CATEGORIES:lecture
LOCATION:University of Guelph - War Memorial Hall
WEBSITE:https://www.uoguelph.ca/sofam/shenkman
URL:https://www.uoguelph.ca/sofam/shenkman
CONTACT:
ORGANIZER:
ATTACH;FMTTYPE="image/jpeg":http://storage.ning.com/topology/rest/1.0/
 file/get/111739579?profile=original
ATTENDEE;ROLE=REQ-PARTICIPANT;PARTSTAT=ACCEPTED;RSVP=TRUE;CN="Theresa 
 Magario tm":http://conectom.leimay.org/profile/TheresaMagario_tm
END:VEVENT
END:VCALENDAR
