BEGIN:VCALENDAR
PRODID:NingEventWidget-v1
VERSION:2.0
METHOD:PUBLISH
BEGIN:VTIMEZONE
TZID:America/Anguilla
X-LIC-LOCATION:America/Anguilla
BEGIN:STANDARD
TZOFFSETFROM:-0400
TZOFFSETTO:-0400
TZNAME:AST
DTSTART:19700101T000000
END:STANDARD
END:VTIMEZONE
BEGIN:VEVENT
UID:5831649:Event:74802
DTSTAMP:20260419T094315Z
SUMMARY:50 Bulbs
DESCRIPTION:Fifty light bulbs hang together from the ceiling, emitting
  a strong glow into the center of a dark room. As the audience enters 
 the space, this stark image is their initial experience of a piece tha
 t is both installation and interactive performance. Hee Ran Lee*’s *
 50 Bulbs explores the dichotomy of “I” versus “other”, and the
  insecurities consequent to cultural marginalization. Growing up femal
 e in the patriarchal power structure of South Korea, as well as living
  extensive periods away from home as a cultural minority, has provoked
  Lee’s research on “otherness” and how it relates to conformity 
 and dominance. The fragility of the lightbulbs create a tense and prec
 arious space as the audience find themselves integral to the work’s 
 conclusion.\n\nHee Ran Lee is a performance artist whose work presents
  immersive environments that allow audiences to investigate a thorough
 ly constructed time and space.\n\nPerformance : March 23\n8 p.m.\n\n20
  $ per Taking Place performance\n60 $ Taking Place Passport: Illimited
  access to all 8 performances\n\nFor more information visit http://con
 ectom.leimay.org/events/50-bulbs
DTSTART;TZID=America/Anguilla:20170323T200000
DTEND;TZID=America/Anguilla:20170323T210000
CATEGORIES:performance, art, series
LOCATION:MAI (Montréal, arts interculturels)
WEBSITE:http://m-a-i.qc.ca/en/index.php?id=539
URL:http://m-a-i.qc.ca/en/index.php?id=539
CONTACT:(514) 982.1812
ORGANIZER:MAI (Montréal, arts interculturels)
ATTACH;FMTTYPE="image/jpeg":http://storage.ning.com/topology/rest/1.0/
 file/get/111740796?profile=original
ATTENDEE;ROLE=REQ-PARTICIPANT;PARTSTAT=ACCEPTED;RSVP=TRUE;CN="Heeran L
 ee":http://conectom.leimay.org/profile/HeeranLee
END:VEVENT
END:VCALENDAR
