BEGIN:VCALENDAR
PRODID:NingEventWidget-v1
VERSION:2.0
METHOD:PUBLISH
BEGIN:VTIMEZONE
TZID:America/Anguilla
X-LIC-LOCATION:America/Anguilla
BEGIN:STANDARD
TZOFFSETFROM:-0400
TZOFFSETTO:-0400
TZNAME:AST
DTSTART:19700101T000000
END:STANDARD
END:VTIMEZONE
BEGIN:VEVENT
UID:5831649:Event:39710
DTSTAMP:20260424T095622Z
SUMMARY:3LD // The Sound Designer // 9 Devils by Mac Wellman
DESCRIPTION:3 Sound Designers work in isolation to score segments of M
 ac Wellman's 9 Devils.\n\nThe culmination of a one-week residency.\n\
 nFor more information visit http://conectom.leimay.org/events/3ld-the-
 sound-designer-9-devils-by-mac-wellman
DTSTART;TZID=America/Anguilla:20130612T193000
DTEND;TZID=America/Anguilla:20130612T213000
CATEGORIES:"sound performance", "dance theater"
LOCATION:3 Legged Dog
WEBSITE:http://blog.3ldnyc.org/image/50921397597
URL:http://blog.3ldnyc.org/image/50921397597
CONTACT:
ORGANIZER:
ATTACH;FMTTYPE="image/jpeg":http://storage.ning.com/topology/rest/1.0/
 file/get/111737006?profile=original
ATTENDEE;ROLE=REQ-PARTICIPANT;PARTSTAT=ACCEPTED;RSVP=TRUE;CN="Raul Zbe
 ngheci":http://conectom.leimay.org/profile/RaulZbengheci
END:VEVENT
END:VCALENDAR
