BEGIN:VCALENDAR
PRODID:NingEventWidget-v1
VERSION:2.0
METHOD:PUBLISH
BEGIN:VTIMEZONE
TZID:America/Anguilla
X-LIC-LOCATION:America/Anguilla
BEGIN:STANDARD
TZOFFSETFROM:-0400
TZOFFSETTO:-0400
TZNAME:AST
DTSTART:19700101T000000
END:STANDARD
END:VTIMEZONE
BEGIN:VEVENT
UID:5831649:Event:33048
DTSTAMP:20260424T142427Z
SUMMARY:15th Contemporary Dance Showcase Japan + East Asia
DESCRIPTION:Japan Societyâ€™s Dance Showcase is back with aÂ thrilling
  assortment of offerings! This year's line-up includes the new post-po
 st-post-butoh duo dance work from Tokyo, Misshitsu: Secret Honey Roomâ
 €“Duo Version, created and performed collaboratively by Makotocluv fou
 nder Makoto Enda and former Dairakudakan dancer Kumotaro Mukai. Also f
 rom Tokyo, Send it, Mr. Monster, by award-winning choreographer and si
 nger KENTARO!!, who leads his groupÂ TOKYO ELECTROCK STAIRS in a hip-h
 op dance set to Japanese pop and serenade songs--an organically meshed
 , unlikely pairing. From Kyoto, Japanese choreographer Kosei Sakamotoâ
 €™s new work HAIGAFURU~Ash is falling, created in contemplation of Jap
 anâ€™s nuclear disaster during his residency in Helsinki and performed
  by members of his company Monochrome Circus. From Taipei, astonishing
  human body movements are set within a high-tech, real-time interactiv
 e space in Seventh Sense, choreographed by Chieh-hua Hsieh and perform
 ed by his company Anarchy Dance Theatre. Come check out dance from the
  other side of the globe without leaving town!\n\nFor more information
  visit http://conectom.leimay.org/events/15th-contemporary-dance-showc
 ase-japan-east-asia
DTSTART;TZID=America/Anguilla:20130111T193000
DTEND;TZID=America/Anguilla:20130112T210000
CATEGORIES:performance
LOCATION:Japan Society
WEBSITE:http://www.japansociety.org
URL:http://www.japansociety.org
CONTACT:212-715-1258
ORGANIZER:Japan Society
ATTACH;FMTTYPE="image/jpeg":http://storage.ning.com/topology/rest/1.0/
 file/get/111735719?profile=original
ATTENDEE;ROLE=REQ-PARTICIPANT;PARTSTAT=ACCEPTED;RSVP=TRUE;CN="Lara Mon
 es":http://conectom.leimay.org/profile/LaraMones
END:VEVENT
END:VCALENDAR
